BEGIN:VCALENDAR
VERSION:2.0
PRODID:-//Fingerhut Stoffe &amp; Nähmaschinen Wolfenbüttel - ECPv6.15.20//NONSGML v1.0//EN
CALSCALE:GREGORIAN
METHOD:PUBLISH
X-WR-CALNAME:Fingerhut Stoffe &amp; Nähmaschinen Wolfenbüttel
X-ORIGINAL-URL:https://www.stoffe-fingerhut.de
X-WR-CALDESC:Veranstaltungen für Fingerhut Stoffe &amp; Nähmaschinen Wolfenbüttel
REFRESH-INTERVAL;VALUE=DURATION:PT1H
X-Robots-Tag:noindex
X-PUBLISHED-TTL:PT1H
BEGIN:VTIMEZONE
TZID:Europe/Berlin
BEGIN:DAYLIGHT
TZOFFSETFROM:+0100
TZOFFSETTO:+0200
TZNAME:CEST
DTSTART:20250330T010000
END:DAYLIGHT
BEGIN:STANDARD
TZOFFSETFROM:+0200
TZOFFSETTO:+0100
TZNAME:CET
DTSTART:20251026T010000
END:STANDARD
BEGIN:DAYLIGHT
TZOFFSETFROM:+0100
TZOFFSETTO:+0200
TZNAME:CEST
DTSTART:20260329T010000
END:DAYLIGHT
BEGIN:STANDARD
TZOFFSETFROM:+0200
TZOFFSETTO:+0100
TZNAME:CET
DTSTART:20261025T010000
END:STANDARD
BEGIN:DAYLIGHT
TZOFFSETFROM:+0100
TZOFFSETTO:+0200
TZNAME:CEST
DTSTART:20270328T010000
END:DAYLIGHT
BEGIN:STANDARD
TZOFFSETFROM:+0200
TZOFFSETTO:+0100
TZNAME:CET
DTSTART:20271031T010000
END:STANDARD
END:VTIMEZONE
BEGIN:VEVENT
DTSTART;TZID=Europe/Berlin:20260223T160000
DTEND;TZID=Europe/Berlin:20260223T180000
DTSTAMP:20260424T151935
CREATED:20251223T121604Z
LAST-MODIFIED:20260202T200554Z
UID:10000931-1771862400-1771869600@www.stoffe-fingerhut.de
SUMMARY:Nähkurs 1 ab Februar 2026
DESCRIPTION:Informationen Nähkurs 1: Montag\n\nDauer: wöchentlich 5 x 2 Stunden\nZeitraum: 16:00-18:00 Uhr\nKursleiter: Marina Sevastianova\nKursgebühr: 95 € ohne Material
URL:https://www.stoffe-fingerhut.de/termin/naehkurs-1-ab-februar-2026/2026-02-23/
LOCATION:Fingerhut\, Großer Zimmerhof 28\, Wolfenbüttel\, Niedersachsen\, 38300\, Deutschland
CATEGORIES:Kurse,Nähkurs 1: Montag
ATTACH;FMTTYPE=image/jpeg:https://www.stoffe-fingerhut.de/medien/Maschine_Fingerhut-Wolfenbuettel_Fotolia_106019997_M_2.jpg
GEO:52.16218;10.5337
X-APPLE-STRUCTURED-LOCATION;VALUE=URI;X-ADDRESS=Fingerhut Großer Zimmerhof 28 Wolfenbüttel Niedersachsen 38300 Deutschland;X-APPLE-RADIUS=500;X-TITLE=Großer Zimmerhof 28:geo:10.5337,52.16218
END:VEVENT
BEGIN:VEVENT
DTSTART;TZID=Europe/Berlin:20260224T110000
DTEND;TZID=Europe/Berlin:20260224T130000
DTSTAMP:20260424T151935
CREATED:20251223T121952Z
LAST-MODIFIED:20260202T200602Z
UID:10000936-1771930800-1771938000@www.stoffe-fingerhut.de
SUMMARY:Nähkurs 2 ab Februar 2026
DESCRIPTION:Informationen Nähkurs 2: Dienstag\n\nDauer: wöchentlich 5 x 2 Stunden\nZeitraum: 11:00-13:00 Uhr\nKursleiter: Marina Sevastianova\nKursgebühr: 95 € ohne Material
URL:https://www.stoffe-fingerhut.de/termin/naehkurs-2-ab-februar-2026/2026-02-24/
LOCATION:Fingerhut\, Großer Zimmerhof 28\, Wolfenbüttel\, Niedersachsen\, 38300\, Deutschland
CATEGORIES:Kurse,Nähkurs 2: Dienstag
ATTACH;FMTTYPE=image/jpeg:https://www.stoffe-fingerhut.de/medien/Maschine_Fingerhut-Wolfenbuettel_Fotolia_106019997_M_2.jpg
GEO:52.16218;10.5337
X-APPLE-STRUCTURED-LOCATION;VALUE=URI;X-ADDRESS=Fingerhut Großer Zimmerhof 28 Wolfenbüttel Niedersachsen 38300 Deutschland;X-APPLE-RADIUS=500;X-TITLE=Großer Zimmerhof 28:geo:10.5337,52.16218
END:VEVENT
BEGIN:VEVENT
DTSTART;TZID=Europe/Berlin:20260225T103000
DTEND;TZID=Europe/Berlin:20260225T123000
DTSTAMP:20260424T151935
CREATED:20251223T123032Z
LAST-MODIFIED:20260202T200611Z
UID:10000948-1772015400-1772022600@www.stoffe-fingerhut.de
SUMMARY:Nähkurs 4 ab Februar 2025
DESCRIPTION:Informationen Nähkurs 4: Mittwoch\n\nDauer: wöchentlich 5 x 2 Stunden\nZeitraum: 10:30 – 12:30 Uhr\nKursleiter: Marianne Berndt\nKursgebühr: 95 € ohne Material
URL:https://www.stoffe-fingerhut.de/termin/naehkurs-4-ab-februar-2025-2/2026-02-25/
LOCATION:Fingerhut\, Großer Zimmerhof 28\, Wolfenbüttel\, Niedersachsen\, 38300\, Deutschland
CATEGORIES:Kurse,Nähkurs 4: Mittwoch
ATTACH;FMTTYPE=image/jpeg:https://www.stoffe-fingerhut.de/medien/Naehmaschine_Fingerhut-Wolfenbuettel_Fotolia_106020006_M.jpg
GEO:52.16218;10.5337
X-APPLE-STRUCTURED-LOCATION;VALUE=URI;X-ADDRESS=Fingerhut Großer Zimmerhof 28 Wolfenbüttel Niedersachsen 38300 Deutschland;X-APPLE-RADIUS=500;X-TITLE=Großer Zimmerhof 28:geo:10.5337,52.16218
END:VEVENT
BEGIN:VEVENT
DTSTART;TZID=Europe/Berlin:20260226T160000
DTEND;TZID=Europe/Berlin:20260226T190000
DTSTAMP:20260424T151935
CREATED:20251223T122244Z
LAST-MODIFIED:20260202T200617Z
UID:10000940-1772121600-1772132400@www.stoffe-fingerhut.de
SUMMARY:Nähkurs 5 ab Februar 2026 (ungerade Woche)
DESCRIPTION:Informationen Nähkurs 5: Donnerstag\n\nDauer: 14-täglich 3 x 3 Stunden\nZeitraum: 15:00 – 18:00 Uhr\nKursleiter: Marina Sevastianova\nKursgebühr: 85\,50 € ohne Material
URL:https://www.stoffe-fingerhut.de/termin/naehkurs-4-ab-februar-2026-ungerade-woche/2026-02-26/
LOCATION:Fingerhut\, Großer Zimmerhof 28\, Wolfenbüttel\, Niedersachsen\, 38300\, Deutschland
CATEGORIES:Kurse,Nähkurs 5: Donnerstag
ATTACH;FMTTYPE=image/jpeg:https://www.stoffe-fingerhut.de/medien/Fingerhut-Wolfenbuettel_Fotolia_106018639_M.jpg
GEO:52.16218;10.5337
X-APPLE-STRUCTURED-LOCATION;VALUE=URI;X-ADDRESS=Fingerhut Großer Zimmerhof 28 Wolfenbüttel Niedersachsen 38300 Deutschland;X-APPLE-RADIUS=500;X-TITLE=Großer Zimmerhof 28:geo:10.5337,52.16218
END:VEVENT
END:VCALENDAR