BEGIN:VCALENDAR
VERSION:2.0
PRODID:-//Fingerhut Stoffe &amp; Nähmaschinen Wolfenbüttel - ECPv6.15.20//NONSGML v1.0//EN
CALSCALE:GREGORIAN
METHOD:PUBLISH
X-ORIGINAL-URL:https://www.stoffe-fingerhut.de
X-WR-CALDESC:Veranstaltungen für Fingerhut Stoffe &amp; Nähmaschinen Wolfenbüttel
REFRESH-INTERVAL;VALUE=DURATION:PT1H
X-Robots-Tag:noindex
X-PUBLISHED-TTL:PT1H
BEGIN:VTIMEZONE
TZID:Europe/Berlin
BEGIN:DAYLIGHT
TZOFFSETFROM:+0100
TZOFFSETTO:+0200
TZNAME:CEST
DTSTART:20250330T010000
END:DAYLIGHT
BEGIN:STANDARD
TZOFFSETFROM:+0200
TZOFFSETTO:+0100
TZNAME:CET
DTSTART:20251026T010000
END:STANDARD
BEGIN:DAYLIGHT
TZOFFSETFROM:+0100
TZOFFSETTO:+0200
TZNAME:CEST
DTSTART:20260329T010000
END:DAYLIGHT
BEGIN:STANDARD
TZOFFSETFROM:+0200
TZOFFSETTO:+0100
TZNAME:CET
DTSTART:20261025T010000
END:STANDARD
BEGIN:DAYLIGHT
TZOFFSETFROM:+0100
TZOFFSETTO:+0200
TZNAME:CEST
DTSTART:20270328T010000
END:DAYLIGHT
BEGIN:STANDARD
TZOFFSETFROM:+0200
TZOFFSETTO:+0100
TZNAME:CET
DTSTART:20271031T010000
END:STANDARD
END:VTIMEZONE
BEGIN:VEVENT
DTSTART;TZID=Europe/Berlin:20260211T103000
DTEND;TZID=Europe/Berlin:20260211T123000
DTSTAMP:20260425T172136
CREATED:20251223T123032Z
LAST-MODIFIED:20260202T200611Z
UID:10000946-1770805800-1770813000@www.stoffe-fingerhut.de
SUMMARY:Nähkurs 4 ab Februar 2025
DESCRIPTION:Informationen Nähkurs 4: Mittwoch\n\nDauer: wöchentlich 5 x 2 Stunden\nZeitraum: 10:30 – 12:30 Uhr\nKursleiter: Marianne Berndt\nKursgebühr: 95 € ohne Material
URL:https://www.stoffe-fingerhut.de/termin/naehkurs-4-ab-februar-2025-2/2026-02-11/
LOCATION:Fingerhut\, Großer Zimmerhof 28\, Wolfenbüttel\, Niedersachsen\, 38300\, Deutschland
CATEGORIES:Kurse,Nähkurs 4: Mittwoch
ATTACH;FMTTYPE=image/jpeg:https://www.stoffe-fingerhut.de/medien/Naehmaschine_Fingerhut-Wolfenbuettel_Fotolia_106020006_M.jpg
GEO:52.16218;10.5337
X-APPLE-STRUCTURED-LOCATION;VALUE=URI;X-ADDRESS=Fingerhut Großer Zimmerhof 28 Wolfenbüttel Niedersachsen 38300 Deutschland;X-APPLE-RADIUS=500;X-TITLE=Großer Zimmerhof 28:geo:10.5337,52.16218
END:VEVENT
BEGIN:VEVENT
DTSTART;TZID=Europe/Berlin:20260212T160000
DTEND;TZID=Europe/Berlin:20260212T190000
DTSTAMP:20260425T172136
CREATED:20251223T123508Z
LAST-MODIFIED:20251223T123745Z
UID:10000953-1770912000-1770922800@www.stoffe-fingerhut.de
SUMMARY:Nähkurs 5 ab Januar 2026 (ungerade Woche)
DESCRIPTION:Informationen Nähkurs 5: Donnerstag\n\nDauer: 14-täglich 3 x 3 Stunden (ungerade Woche)\nZeitraum: 15:00 – 18:00 Uhr\nKursleiter: Marina Sevastianova\nKursgebühr: 85\,50 € ohne Material
URL:https://www.stoffe-fingerhut.de/termin/naehkurs-5-ab-januar-2026-gerade-woche/2026-02-12/
LOCATION:Fingerhut\, Großer Zimmerhof 28\, Wolfenbüttel\, Niedersachsen\, 38300\, Deutschland
CATEGORIES:Kurse,Nähkurs 5: Donnerstag
ATTACH;FMTTYPE=image/jpeg:https://www.stoffe-fingerhut.de/medien/Fingerhut-Wolfenbuettel_Fotolia_106018639_M.jpg
GEO:52.16218;10.5337
X-APPLE-STRUCTURED-LOCATION;VALUE=URI;X-ADDRESS=Fingerhut Großer Zimmerhof 28 Wolfenbüttel Niedersachsen 38300 Deutschland;X-APPLE-RADIUS=500;X-TITLE=Großer Zimmerhof 28:geo:10.5337,52.16218
END:VEVENT
BEGIN:VEVENT
DTSTART;TZID=Europe/Berlin:20260214T110000
DTEND;TZID=Europe/Berlin:20260214T170000
DTSTAMP:20260425T172136
CREATED:20260116T125020Z
LAST-MODIFIED:20260116T125020Z
UID:10000957-1771066800-1771088400@www.stoffe-fingerhut.de
SUMMARY:Workshop - Thema: „Overlock & Coverlock“
DESCRIPTION:Im Rahmen der verkaufslangen Samstage veranstalten wir von 11:00-17:00 Uhr unsere Kompaktnähkurse mit unterschiedlichen Themen. \n\nWegen der hohen Nachfrage wird folgendes Thema noch einmal wiederholt: Wir nähen Pullover und Westen und nutzen Overlock\, Nähmaschine und \nCoverlock. \nWir zeigen die Anwendung und Unterschiede beider Maschinen und nähen gemeinsam eine gemütliche Schlafanzughose. Bitte telefonisch anmelden unter 05331-5705
URL:https://www.stoffe-fingerhut.de/termin/workshop-thema-overlock-coverlock-2/
LOCATION:Fingerhut\, Großer Zimmerhof 28\, Wolfenbüttel\, Niedersachsen\, 38300\, Deutschland
CATEGORIES:Kurse,Nähkurs Workshops
ATTACH;FMTTYPE=image/jpeg:https://www.stoffe-fingerhut.de/medien/2022/02/schneiderkreide-pixabay_517028-esther-merbt.jpg
GEO:52.16218;10.5337
X-APPLE-STRUCTURED-LOCATION;VALUE=URI;X-ADDRESS=Fingerhut Großer Zimmerhof 28 Wolfenbüttel Niedersachsen 38300 Deutschland;X-APPLE-RADIUS=500;X-TITLE=Großer Zimmerhof 28:geo:10.5337,52.16218
END:VEVENT
END:VCALENDAR