BEGIN:VCALENDAR
VERSION:2.0
PRODID:-//Fingerhut Stoffe &amp; Nähmaschinen Wolfenbüttel - ECPv6.15.20//NONSGML v1.0//EN
CALSCALE:GREGORIAN
METHOD:PUBLISH
X-WR-CALNAME:Fingerhut Stoffe &amp; Nähmaschinen Wolfenbüttel
X-ORIGINAL-URL:https://www.stoffe-fingerhut.de
X-WR-CALDESC:Veranstaltungen für Fingerhut Stoffe &amp; Nähmaschinen Wolfenbüttel
REFRESH-INTERVAL;VALUE=DURATION:PT1H
X-Robots-Tag:noindex
X-PUBLISHED-TTL:PT1H
BEGIN:VTIMEZONE
TZID:Europe/Berlin
BEGIN:DAYLIGHT
TZOFFSETFROM:+0100
TZOFFSETTO:+0200
TZNAME:CEST
DTSTART:20250330T010000
END:DAYLIGHT
BEGIN:STANDARD
TZOFFSETFROM:+0200
TZOFFSETTO:+0100
TZNAME:CET
DTSTART:20251026T010000
END:STANDARD
BEGIN:DAYLIGHT
TZOFFSETFROM:+0100
TZOFFSETTO:+0200
TZNAME:CEST
DTSTART:20260329T010000
END:DAYLIGHT
BEGIN:STANDARD
TZOFFSETFROM:+0200
TZOFFSETTO:+0100
TZNAME:CET
DTSTART:20261025T010000
END:STANDARD
BEGIN:DAYLIGHT
TZOFFSETFROM:+0100
TZOFFSETTO:+0200
TZNAME:CEST
DTSTART:20270328T010000
END:DAYLIGHT
BEGIN:STANDARD
TZOFFSETFROM:+0200
TZOFFSETTO:+0100
TZNAME:CET
DTSTART:20271031T010000
END:STANDARD
END:VTIMEZONE
BEGIN:VEVENT
DTSTART;TZID=Europe/Berlin:20260108T160000
DTEND;TZID=Europe/Berlin:20260108T190000
DTSTAMP:20260425T154317
CREATED:20251223T124015Z
LAST-MODIFIED:20251223T124015Z
UID:10000954-1767888000-1767898800@www.stoffe-fingerhut.de
SUMMARY:Nähkurs 5 ab Januar 2026 (gerade Woche)
DESCRIPTION:Informationen Nähkurs 5: Donnerstag\n\nDauer: 14-täglich 3 x 3 Stunden (gerade Woche)\nZeitraum: 15:00 – 18:00 Uhr\nKursleiter: Marina Sevastianova\nKursgebühr: 85\,50 € ohne Material
URL:https://www.stoffe-fingerhut.de/termin/naehkurs-5-ab-januar-2026-gerade-woche-2/2026-01-08/
LOCATION:Fingerhut\, Großer Zimmerhof 28\, Wolfenbüttel\, Niedersachsen\, 38300\, Deutschland
CATEGORIES:Kurse,Nähkurs 5: Donnerstag
ATTACH;FMTTYPE=image/jpeg:https://www.stoffe-fingerhut.de/medien/Fingerhut-Wolfenbuettel_Fotolia_106018639_M.jpg
GEO:52.16218;10.5337
X-APPLE-STRUCTURED-LOCATION;VALUE=URI;X-ADDRESS=Fingerhut Großer Zimmerhof 28 Wolfenbüttel Niedersachsen 38300 Deutschland;X-APPLE-RADIUS=500;X-TITLE=Großer Zimmerhof 28:geo:10.5337,52.16218
END:VEVENT
BEGIN:VEVENT
DTSTART;TZID=Europe/Berlin:20260110T103000
DTEND;TZID=Europe/Berlin:20260110T173000
DTSTAMP:20260425T154317
CREATED:20251121T083025Z
LAST-MODIFIED:20251121T083248Z
UID:10000928-1768041000-1768066200@www.stoffe-fingerhut.de
SUMMARY:Workshop - Thema: „Coole Westen schnell genäht“
DESCRIPTION:Im Rahmen der verkaufslangen Samstage veranstalten wir von 11:00-17:00 Uhr unsere Kompaktnähkurse mit unterschiedlichen Themen. \n\nAuch dieses Mal bieten wir von 10:30-17:30 Uhr einen Workshop an. \nThema: „Coole Westen schnell genäht“ \nEgal ob Stepp\, Teddy\, Walk oder Strick\, am Ende des Kurses ist eine neue und selbstgenähte Weste dein Eigen. \nDie Kursgebühr beträgt 59 €\, das Material wird extra berechnet. Bitte telefonisch anmelden unter 05331-5705
URL:https://www.stoffe-fingerhut.de/termin/workshop-thema-coole-westen-schnell-genaeht/
LOCATION:Fingerhut\, Großer Zimmerhof 28\, Wolfenbüttel\, Niedersachsen\, 38300\, Deutschland
CATEGORIES:Kurse,Nähkurs Workshops
ATTACH;FMTTYPE=image/jpeg:https://www.stoffe-fingerhut.de/medien/2022/02/schneiderkreide-pixabay_517028-esther-merbt.jpg
GEO:52.16218;10.5337
X-APPLE-STRUCTURED-LOCATION;VALUE=URI;X-ADDRESS=Fingerhut Großer Zimmerhof 28 Wolfenbüttel Niedersachsen 38300 Deutschland;X-APPLE-RADIUS=500;X-TITLE=Großer Zimmerhof 28:geo:10.5337,52.16218
END:VEVENT
END:VCALENDAR