BEGIN:VCALENDAR
VERSION:2.0
PRODID:-//Fingerhut Stoffe &amp; Nähmaschinen Wolfenbüttel - ECPv6.15.20//NONSGML v1.0//EN
CALSCALE:GREGORIAN
METHOD:PUBLISH
X-ORIGINAL-URL:https://www.stoffe-fingerhut.de
X-WR-CALDESC:Veranstaltungen für Fingerhut Stoffe &amp; Nähmaschinen Wolfenbüttel
REFRESH-INTERVAL;VALUE=DURATION:PT1H
X-Robots-Tag:noindex
X-PUBLISHED-TTL:PT1H
BEGIN:VTIMEZONE
TZID:Europe/Berlin
BEGIN:DAYLIGHT
TZOFFSETFROM:+0100
TZOFFSETTO:+0200
TZNAME:CEST
DTSTART:20240331T010000
END:DAYLIGHT
BEGIN:STANDARD
TZOFFSETFROM:+0200
TZOFFSETTO:+0100
TZNAME:CET
DTSTART:20241027T010000
END:STANDARD
BEGIN:DAYLIGHT
TZOFFSETFROM:+0100
TZOFFSETTO:+0200
TZNAME:CEST
DTSTART:20250330T010000
END:DAYLIGHT
BEGIN:STANDARD
TZOFFSETFROM:+0200
TZOFFSETTO:+0100
TZNAME:CET
DTSTART:20251026T010000
END:STANDARD
BEGIN:DAYLIGHT
TZOFFSETFROM:+0100
TZOFFSETTO:+0200
TZNAME:CEST
DTSTART:20260329T010000
END:DAYLIGHT
BEGIN:STANDARD
TZOFFSETFROM:+0200
TZOFFSETTO:+0100
TZNAME:CET
DTSTART:20261025T010000
END:STANDARD
END:VTIMEZONE
BEGIN:VEVENT
DTSTART;TZID=Europe/Berlin:20251202T110000
DTEND;TZID=Europe/Berlin:20251202T130000
DTSTAMP:20260425T184201
CREATED:20251026T231729Z
LAST-MODIFIED:20251026T231729Z
UID:10000912-1764673200-1764680400@www.stoffe-fingerhut.de
SUMMARY:Nähkurs 2 ab November 2025
DESCRIPTION:Informationen Nähkurs 2: Dienstag\n\nDauer: wöchentlich 5 x 2 Stunden\nZeitraum: 11:00-13:00 Uhr\nKursleiter: Marina Sevastianova\nKursgebühr: 95 € ohne Material
URL:https://www.stoffe-fingerhut.de/termin/naehkurs-2-ab-november-2025/2025-12-02/
LOCATION:Fingerhut\, Großer Zimmerhof 28\, Wolfenbüttel\, Niedersachsen\, 38300\, Deutschland
CATEGORIES:Kurse,Nähkurs 2: Dienstag
ATTACH;FMTTYPE=image/jpeg:https://www.stoffe-fingerhut.de/medien/Maschine_Fingerhut-Wolfenbuettel_Fotolia_106019997_M_2.jpg
GEO:52.16218;10.5337
X-APPLE-STRUCTURED-LOCATION;VALUE=URI;X-ADDRESS=Fingerhut Großer Zimmerhof 28 Wolfenbüttel Niedersachsen 38300 Deutschland;X-APPLE-RADIUS=500;X-TITLE=Großer Zimmerhof 28:geo:10.5337,52.16218
END:VEVENT
BEGIN:VEVENT
DTSTART;TZID=Europe/Berlin:20251204T160000
DTEND;TZID=Europe/Berlin:20251204T190000
DTSTAMP:20260425T184201
CREATED:20251026T234652Z
LAST-MODIFIED:20251026T234652Z
UID:10000923-1764864000-1764874800@www.stoffe-fingerhut.de
SUMMARY:Nähkurs 5 ab Oktober 2025
DESCRIPTION:Informationen Nähkurs 5: Donnerstag\n\nDauer: 14-täglich 3 x 3 Stunden (ungerade Woche)\nZeitraum: 15:00 – 18:00 Uhr\nKursleiter: Marina Sevastianova\nKursgebühr: 85\,50 € ohne Material
URL:https://www.stoffe-fingerhut.de/termin/naehkurs-5-ab-oktober-2025/2025-12-04/
LOCATION:Fingerhut\, Großer Zimmerhof 28\, Wolfenbüttel\, Niedersachsen\, 38300\, Deutschland
CATEGORIES:Kurse,Nähkurs 5: Donnerstag
ATTACH;FMTTYPE=image/jpeg:https://www.stoffe-fingerhut.de/medien/Fingerhut-Wolfenbuettel_Fotolia_106018639_M.jpg
GEO:52.16218;10.5337
X-APPLE-STRUCTURED-LOCATION;VALUE=URI;X-ADDRESS=Fingerhut Großer Zimmerhof 28 Wolfenbüttel Niedersachsen 38300 Deutschland;X-APPLE-RADIUS=500;X-TITLE=Großer Zimmerhof 28:geo:10.5337,52.16218
END:VEVENT
BEGIN:VEVENT
DTSTART;TZID=Europe/Berlin:20251204T160000
DTEND;TZID=Europe/Berlin:20251204T190000
DTSTAMP:20260425T184201
CREATED:20251026T235629Z
LAST-MODIFIED:20251026T235629Z
UID:10000926-1764864000-1764874800@www.stoffe-fingerhut.de
SUMMARY:Nähkurs 5 ab November 2025
DESCRIPTION:Informationen Nähkurs 5: Donnerstag\n\nDauer: 14-täglich 3 x 3 Stunden (gerade Woche)\nZeitraum: 15:00 – 18:00 Uhr\nKursleiter: Marina Sevastianova\nKursgebühr: 85\,50 € ohne Material
URL:https://www.stoffe-fingerhut.de/termin/naehkurs-5-ab-november-2025/2025-12-04/
LOCATION:Fingerhut\, Großer Zimmerhof 28\, Wolfenbüttel\, Niedersachsen\, 38300\, Deutschland
CATEGORIES:Kurse,Nähkurs 5: Donnerstag
ATTACH;FMTTYPE=image/jpeg:https://www.stoffe-fingerhut.de/medien/Fingerhut-Wolfenbuettel_Fotolia_106018639_M.jpg
GEO:52.16218;10.5337
X-APPLE-STRUCTURED-LOCATION;VALUE=URI;X-ADDRESS=Fingerhut Großer Zimmerhof 28 Wolfenbüttel Niedersachsen 38300 Deutschland;X-APPLE-RADIUS=500;X-TITLE=Großer Zimmerhof 28:geo:10.5337,52.16218
END:VEVENT
BEGIN:VEVENT
DTSTART;TZID=Europe/Berlin:20251206T100000
DTEND;TZID=Europe/Berlin:20251206T150000
DTSTAMP:20260425T184201
CREATED:20251121T082756Z
LAST-MODIFIED:20251121T082756Z
UID:10000927-1765015200-1765033200@www.stoffe-fingerhut.de
SUMMARY:Workshop - Thema: „Nikolaustag“
DESCRIPTION:Im Rahmen des Nikolaustag veranstalten wir von 11:00-17:00 Uhr einen Workshop an. \nEs werden Pullover und Schlafanzughosen und andere Geschenke aus Weihnachtstoffen genäht. Ich sage nur „ugly Christmas sweater“ …😊 Die Kursgebühr beträgt 49 €\, das Material wird extra berechnet. \nBitte telefonisch anmelden unter 05331-5705
URL:https://www.stoffe-fingerhut.de/termin/workshop-thema-nikolaustag/
LOCATION:Fingerhut\, Großer Zimmerhof 28\, Wolfenbüttel\, Niedersachsen\, 38300\, Deutschland
CATEGORIES:Kurse,Nähkurs Workshops
ATTACH;FMTTYPE=image/jpeg:https://www.stoffe-fingerhut.de/medien/2022/02/schneiderkreide-pixabay_517028-esther-merbt.jpg
GEO:52.16218;10.5337
X-APPLE-STRUCTURED-LOCATION;VALUE=URI;X-ADDRESS=Fingerhut Großer Zimmerhof 28 Wolfenbüttel Niedersachsen 38300 Deutschland;X-APPLE-RADIUS=500;X-TITLE=Großer Zimmerhof 28:geo:10.5337,52.16218
END:VEVENT
END:VCALENDAR