BEGIN:VCALENDAR
VERSION:2.0
PRODID:-//Fingerhut Stoffe &amp; Nähmaschinen Wolfenbüttel - ECPv6.15.20//NONSGML v1.0//EN
CALSCALE:GREGORIAN
METHOD:PUBLISH
X-ORIGINAL-URL:https://www.stoffe-fingerhut.de
X-WR-CALDESC:Veranstaltungen für Fingerhut Stoffe &amp; Nähmaschinen Wolfenbüttel
REFRESH-INTERVAL;VALUE=DURATION:PT1H
X-Robots-Tag:noindex
X-PUBLISHED-TTL:PT1H
BEGIN:VTIMEZONE
TZID:Europe/Berlin
BEGIN:DAYLIGHT
TZOFFSETFROM:+0100
TZOFFSETTO:+0200
TZNAME:CEST
DTSTART:20240331T010000
END:DAYLIGHT
BEGIN:STANDARD
TZOFFSETFROM:+0200
TZOFFSETTO:+0100
TZNAME:CET
DTSTART:20241027T010000
END:STANDARD
BEGIN:DAYLIGHT
TZOFFSETFROM:+0100
TZOFFSETTO:+0200
TZNAME:CEST
DTSTART:20250330T010000
END:DAYLIGHT
BEGIN:STANDARD
TZOFFSETFROM:+0200
TZOFFSETTO:+0100
TZNAME:CET
DTSTART:20251026T010000
END:STANDARD
BEGIN:DAYLIGHT
TZOFFSETFROM:+0100
TZOFFSETTO:+0200
TZNAME:CEST
DTSTART:20260329T010000
END:DAYLIGHT
BEGIN:STANDARD
TZOFFSETFROM:+0200
TZOFFSETTO:+0100
TZNAME:CET
DTSTART:20261025T010000
END:STANDARD
END:VTIMEZONE
BEGIN:VEVENT
DTSTART;TZID=Europe/Berlin:20251007T110000
DTEND;TZID=Europe/Berlin:20251007T130000
DTSTAMP:20260425T165114
CREATED:20250819T214834Z
LAST-MODIFIED:20250819T214834Z
UID:10000883-1759834800-1759842000@www.stoffe-fingerhut.de
SUMMARY:Nähkurs 2 ab September 2025
DESCRIPTION:Informationen Nähkurs 2: Dienstag\n\nDauer: wöchentlich 5 x 2 Stunden\nZeitraum: 11:00-13:00 Uhr\nKursleiter: Marina Sevastianova\nKursgebühr: 95 € ohne Material
URL:https://www.stoffe-fingerhut.de/termin/naehkurs-2-ab-september-2025/2025-10-07/
LOCATION:Fingerhut\, Großer Zimmerhof 28\, Wolfenbüttel\, Niedersachsen\, 38300\, Deutschland
CATEGORIES:Kurse,Nähkurs 2: Dienstag
ATTACH;FMTTYPE=image/jpeg:https://www.stoffe-fingerhut.de/medien/Maschine_Fingerhut-Wolfenbuettel_Fotolia_106019997_M_2.jpg
GEO:52.16218;10.5337
X-APPLE-STRUCTURED-LOCATION;VALUE=URI;X-ADDRESS=Fingerhut Großer Zimmerhof 28 Wolfenbüttel Niedersachsen 38300 Deutschland;X-APPLE-RADIUS=500;X-TITLE=Großer Zimmerhof 28:geo:10.5337,52.16218
END:VEVENT
BEGIN:VEVENT
DTSTART;TZID=Europe/Berlin:20251007T163000
DTEND;TZID=Europe/Berlin:20251007T183000
DTSTAMP:20260425T165114
CREATED:20250819T215810Z
LAST-MODIFIED:20250819T215810Z
UID:10000887-1759854600-1759861800@www.stoffe-fingerhut.de
SUMMARY:Nähkurs 3 ab September 2025
DESCRIPTION:Informationen Nähkurs 5: Dienstag\nNähkurs für Anfänger: Von der Nadel bis zum Faden\, wir begleiten dich auf deiner Nähabenteuerreise! \n\nDauer: 14-täglich 3 x 2 Stunden (ungerade Woche)\nZeitraum: 16:30 – 18:30 Uhr\nKursleiter: Marianne Berndt\nKursgebühr: 57 € ohne Material
URL:https://www.stoffe-fingerhut.de/termin/naehkurs-3-ab-september-2025/2025-10-07/
LOCATION:Fingerhut\, Großer Zimmerhof 28\, Wolfenbüttel\, Niedersachsen\, 38300\, Deutschland
CATEGORIES:Kurse,Nähkurs 3: Dienstag
ATTACH;FMTTYPE=image/jpeg:https://www.stoffe-fingerhut.de/medien/Koffer_Fingerhut-Wolfenbuettel_Fotolia_106020269_M.jpg
GEO:52.16218;10.5337
X-APPLE-STRUCTURED-LOCATION;VALUE=URI;X-ADDRESS=Fingerhut Großer Zimmerhof 28 Wolfenbüttel Niedersachsen 38300 Deutschland;X-APPLE-RADIUS=500;X-TITLE=Großer Zimmerhof 28:geo:10.5337,52.16218
END:VEVENT
END:VCALENDAR