BEGIN:VCALENDAR
VERSION:2.0
PRODID:-//Fingerhut Stoffe &amp; Nähmaschinen Wolfenbüttel - ECPv6.15.20//NONSGML v1.0//EN
CALSCALE:GREGORIAN
METHOD:PUBLISH
X-ORIGINAL-URL:https://www.stoffe-fingerhut.de
X-WR-CALDESC:Veranstaltungen für Fingerhut Stoffe &amp; Nähmaschinen Wolfenbüttel
REFRESH-INTERVAL;VALUE=DURATION:PT1H
X-Robots-Tag:noindex
X-PUBLISHED-TTL:PT1H
BEGIN:VTIMEZONE
TZID:Europe/Berlin
BEGIN:DAYLIGHT
TZOFFSETFROM:+0100
TZOFFSETTO:+0200
TZNAME:CEST
DTSTART:20250330T010000
END:DAYLIGHT
BEGIN:STANDARD
TZOFFSETFROM:+0200
TZOFFSETTO:+0100
TZNAME:CET
DTSTART:20251026T010000
END:STANDARD
BEGIN:DAYLIGHT
TZOFFSETFROM:+0100
TZOFFSETTO:+0200
TZNAME:CEST
DTSTART:20260329T010000
END:DAYLIGHT
BEGIN:STANDARD
TZOFFSETFROM:+0200
TZOFFSETTO:+0100
TZNAME:CET
DTSTART:20261025T010000
END:STANDARD
BEGIN:DAYLIGHT
TZOFFSETFROM:+0100
TZOFFSETTO:+0200
TZNAME:CEST
DTSTART:20270328T010000
END:DAYLIGHT
BEGIN:STANDARD
TZOFFSETFROM:+0200
TZOFFSETTO:+0100
TZNAME:CET
DTSTART:20271031T010000
END:STANDARD
END:VTIMEZONE
BEGIN:VEVENT
DTSTART;TZID=Europe/Berlin:20260302T160000
DTEND;TZID=Europe/Berlin:20260302T180000
DTSTAMP:20260424T122900
CREATED:20251223T121604Z
LAST-MODIFIED:20260202T200554Z
UID:10000932-1772467200-1772474400@www.stoffe-fingerhut.de
SUMMARY:Nähkurs 1 ab Februar 2026
DESCRIPTION:Informationen Nähkurs 1: Montag\n\nDauer: wöchentlich 5 x 2 Stunden\nZeitraum: 16:00-18:00 Uhr\nKursleiter: Marina Sevastianova\nKursgebühr: 95 € ohne Material
URL:https://www.stoffe-fingerhut.de/termin/naehkurs-1-ab-februar-2026/2026-03-02/
LOCATION:Fingerhut\, Großer Zimmerhof 28\, Wolfenbüttel\, Niedersachsen\, 38300\, Deutschland
CATEGORIES:Kurse,Nähkurs 1: Montag
ATTACH;FMTTYPE=image/jpeg:https://www.stoffe-fingerhut.de/medien/Maschine_Fingerhut-Wolfenbuettel_Fotolia_106019997_M_2.jpg
GEO:52.16218;10.5337
X-APPLE-STRUCTURED-LOCATION;VALUE=URI;X-ADDRESS=Fingerhut Großer Zimmerhof 28 Wolfenbüttel Niedersachsen 38300 Deutschland;X-APPLE-RADIUS=500;X-TITLE=Großer Zimmerhof 28:geo:10.5337,52.16218
END:VEVENT
BEGIN:VEVENT
DTSTART;TZID=Europe/Berlin:20260303T110000
DTEND;TZID=Europe/Berlin:20260303T130000
DTSTAMP:20260424T122900
CREATED:20251223T121952Z
LAST-MODIFIED:20260202T200602Z
UID:10000937-1772535600-1772542800@www.stoffe-fingerhut.de
SUMMARY:Nähkurs 2 ab Februar 2026
DESCRIPTION:Informationen Nähkurs 2: Dienstag\n\nDauer: wöchentlich 5 x 2 Stunden\nZeitraum: 11:00-13:00 Uhr\nKursleiter: Marina Sevastianova\nKursgebühr: 95 € ohne Material
URL:https://www.stoffe-fingerhut.de/termin/naehkurs-2-ab-februar-2026/2026-03-03/
LOCATION:Fingerhut\, Großer Zimmerhof 28\, Wolfenbüttel\, Niedersachsen\, 38300\, Deutschland
CATEGORIES:Kurse,Nähkurs 2: Dienstag
ATTACH;FMTTYPE=image/jpeg:https://www.stoffe-fingerhut.de/medien/Maschine_Fingerhut-Wolfenbuettel_Fotolia_106019997_M_2.jpg
GEO:52.16218;10.5337
X-APPLE-STRUCTURED-LOCATION;VALUE=URI;X-ADDRESS=Fingerhut Großer Zimmerhof 28 Wolfenbüttel Niedersachsen 38300 Deutschland;X-APPLE-RADIUS=500;X-TITLE=Großer Zimmerhof 28:geo:10.5337,52.16218
END:VEVENT
BEGIN:VEVENT
DTSTART;TZID=Europe/Berlin:20260304T103000
DTEND;TZID=Europe/Berlin:20260304T123000
DTSTAMP:20260424T122900
CREATED:20251223T123032Z
LAST-MODIFIED:20260202T200611Z
UID:10000949-1772620200-1772627400@www.stoffe-fingerhut.de
SUMMARY:Nähkurs 4 ab Februar 2025
DESCRIPTION:Informationen Nähkurs 4: Mittwoch\n\nDauer: wöchentlich 5 x 2 Stunden\nZeitraum: 10:30 – 12:30 Uhr\nKursleiter: Marianne Berndt\nKursgebühr: 95 € ohne Material
URL:https://www.stoffe-fingerhut.de/termin/naehkurs-4-ab-februar-2025-2/2026-03-04/
LOCATION:Fingerhut\, Großer Zimmerhof 28\, Wolfenbüttel\, Niedersachsen\, 38300\, Deutschland
CATEGORIES:Kurse,Nähkurs 4: Mittwoch
ATTACH;FMTTYPE=image/jpeg:https://www.stoffe-fingerhut.de/medien/Naehmaschine_Fingerhut-Wolfenbuettel_Fotolia_106020006_M.jpg
GEO:52.16218;10.5337
X-APPLE-STRUCTURED-LOCATION;VALUE=URI;X-ADDRESS=Fingerhut Großer Zimmerhof 28 Wolfenbüttel Niedersachsen 38300 Deutschland;X-APPLE-RADIUS=500;X-TITLE=Großer Zimmerhof 28:geo:10.5337,52.16218
END:VEVENT
BEGIN:VEVENT
DTSTART;TZID=Europe/Berlin:20260305T160000
DTEND;TZID=Europe/Berlin:20260305T190000
DTSTAMP:20260424T122900
CREATED:20251223T122554Z
LAST-MODIFIED:20260202T200636Z
UID:10000944-1772726400-1772737200@www.stoffe-fingerhut.de
SUMMARY:Nähkurs 5 ab Februar 2026 (gerade Woche)
DESCRIPTION:Informationen Nähkurs 5: Donnerstag\n\nDauer: 14-täglich 3 x 3 Stunden (gerade Woche)\nZeitraum: 15:00 – 18:00 Uhr\nKursleiter: Marina Sevastianova\nKursgebühr: 85\,50 € ohne Material
URL:https://www.stoffe-fingerhut.de/termin/naehkurs-5-ab-februar-2026-gerade-woche/2026-03-05/
LOCATION:Fingerhut\, Großer Zimmerhof 28\, Wolfenbüttel\, Niedersachsen\, 38300\, Deutschland
CATEGORIES:Kurse,Nähkurs 5: Donnerstag
ATTACH;FMTTYPE=image/jpeg:https://www.stoffe-fingerhut.de/medien/Fingerhut-Wolfenbuettel_Fotolia_106018639_M.jpg
GEO:52.16218;10.5337
X-APPLE-STRUCTURED-LOCATION;VALUE=URI;X-ADDRESS=Fingerhut Großer Zimmerhof 28 Wolfenbüttel Niedersachsen 38300 Deutschland;X-APPLE-RADIUS=500;X-TITLE=Großer Zimmerhof 28:geo:10.5337,52.16218
END:VEVENT
BEGIN:VEVENT
DTSTART;TZID=Europe/Berlin:20260309T160000
DTEND;TZID=Europe/Berlin:20260309T180000
DTSTAMP:20260424T122900
CREATED:20251223T121604Z
LAST-MODIFIED:20260202T200554Z
UID:10000933-1773072000-1773079200@www.stoffe-fingerhut.de
SUMMARY:Nähkurs 1 ab Februar 2026
DESCRIPTION:Informationen Nähkurs 1: Montag\n\nDauer: wöchentlich 5 x 2 Stunden\nZeitraum: 16:00-18:00 Uhr\nKursleiter: Marina Sevastianova\nKursgebühr: 95 € ohne Material
URL:https://www.stoffe-fingerhut.de/termin/naehkurs-1-ab-februar-2026/2026-03-09/
LOCATION:Fingerhut\, Großer Zimmerhof 28\, Wolfenbüttel\, Niedersachsen\, 38300\, Deutschland
CATEGORIES:Kurse,Nähkurs 1: Montag
ATTACH;FMTTYPE=image/jpeg:https://www.stoffe-fingerhut.de/medien/Maschine_Fingerhut-Wolfenbuettel_Fotolia_106019997_M_2.jpg
GEO:52.16218;10.5337
X-APPLE-STRUCTURED-LOCATION;VALUE=URI;X-ADDRESS=Fingerhut Großer Zimmerhof 28 Wolfenbüttel Niedersachsen 38300 Deutschland;X-APPLE-RADIUS=500;X-TITLE=Großer Zimmerhof 28:geo:10.5337,52.16218
END:VEVENT
BEGIN:VEVENT
DTSTART;TZID=Europe/Berlin:20260310T110000
DTEND;TZID=Europe/Berlin:20260310T130000
DTSTAMP:20260424T122900
CREATED:20251223T121952Z
LAST-MODIFIED:20260202T200602Z
UID:10000938-1773140400-1773147600@www.stoffe-fingerhut.de
SUMMARY:Nähkurs 2 ab Februar 2026
DESCRIPTION:Informationen Nähkurs 2: Dienstag\n\nDauer: wöchentlich 5 x 2 Stunden\nZeitraum: 11:00-13:00 Uhr\nKursleiter: Marina Sevastianova\nKursgebühr: 95 € ohne Material
URL:https://www.stoffe-fingerhut.de/termin/naehkurs-2-ab-februar-2026/2026-03-10/
LOCATION:Fingerhut\, Großer Zimmerhof 28\, Wolfenbüttel\, Niedersachsen\, 38300\, Deutschland
CATEGORIES:Kurse,Nähkurs 2: Dienstag
ATTACH;FMTTYPE=image/jpeg:https://www.stoffe-fingerhut.de/medien/Maschine_Fingerhut-Wolfenbuettel_Fotolia_106019997_M_2.jpg
GEO:52.16218;10.5337
X-APPLE-STRUCTURED-LOCATION;VALUE=URI;X-ADDRESS=Fingerhut Großer Zimmerhof 28 Wolfenbüttel Niedersachsen 38300 Deutschland;X-APPLE-RADIUS=500;X-TITLE=Großer Zimmerhof 28:geo:10.5337,52.16218
END:VEVENT
BEGIN:VEVENT
DTSTART;TZID=Europe/Berlin:20260311T103000
DTEND;TZID=Europe/Berlin:20260311T123000
DTSTAMP:20260424T122900
CREATED:20251223T123032Z
LAST-MODIFIED:20260202T200611Z
UID:10000950-1773225000-1773232200@www.stoffe-fingerhut.de
SUMMARY:Nähkurs 4 ab Februar 2025
DESCRIPTION:Informationen Nähkurs 4: Mittwoch\n\nDauer: wöchentlich 5 x 2 Stunden\nZeitraum: 10:30 – 12:30 Uhr\nKursleiter: Marianne Berndt\nKursgebühr: 95 € ohne Material
URL:https://www.stoffe-fingerhut.de/termin/naehkurs-4-ab-februar-2025-2/2026-03-11/
LOCATION:Fingerhut\, Großer Zimmerhof 28\, Wolfenbüttel\, Niedersachsen\, 38300\, Deutschland
CATEGORIES:Kurse,Nähkurs 4: Mittwoch
ATTACH;FMTTYPE=image/jpeg:https://www.stoffe-fingerhut.de/medien/Naehmaschine_Fingerhut-Wolfenbuettel_Fotolia_106020006_M.jpg
GEO:52.16218;10.5337
X-APPLE-STRUCTURED-LOCATION;VALUE=URI;X-ADDRESS=Fingerhut Großer Zimmerhof 28 Wolfenbüttel Niedersachsen 38300 Deutschland;X-APPLE-RADIUS=500;X-TITLE=Großer Zimmerhof 28:geo:10.5337,52.16218
END:VEVENT
BEGIN:VEVENT
DTSTART;TZID=Europe/Berlin:20260312T160000
DTEND;TZID=Europe/Berlin:20260312T190000
DTSTAMP:20260424T122900
CREATED:20251223T122244Z
LAST-MODIFIED:20260202T200617Z
UID:10000941-1773331200-1773342000@www.stoffe-fingerhut.de
SUMMARY:Nähkurs 5 ab Februar 2026 (ungerade Woche)
DESCRIPTION:Informationen Nähkurs 5: Donnerstag\n\nDauer: 14-täglich 3 x 3 Stunden\nZeitraum: 15:00 – 18:00 Uhr\nKursleiter: Marina Sevastianova\nKursgebühr: 85\,50 € ohne Material
URL:https://www.stoffe-fingerhut.de/termin/naehkurs-4-ab-februar-2026-ungerade-woche/2026-03-12/
LOCATION:Fingerhut\, Großer Zimmerhof 28\, Wolfenbüttel\, Niedersachsen\, 38300\, Deutschland
CATEGORIES:Kurse,Nähkurs 5: Donnerstag
ATTACH;FMTTYPE=image/jpeg:https://www.stoffe-fingerhut.de/medien/Fingerhut-Wolfenbuettel_Fotolia_106018639_M.jpg
GEO:52.16218;10.5337
X-APPLE-STRUCTURED-LOCATION;VALUE=URI;X-ADDRESS=Fingerhut Großer Zimmerhof 28 Wolfenbüttel Niedersachsen 38300 Deutschland;X-APPLE-RADIUS=500;X-TITLE=Großer Zimmerhof 28:geo:10.5337,52.16218
END:VEVENT
BEGIN:VEVENT
DTSTART;TZID=Europe/Berlin:20260316T160000
DTEND;TZID=Europe/Berlin:20260316T180000
DTSTAMP:20260424T122900
CREATED:20251223T121604Z
LAST-MODIFIED:20260202T200554Z
UID:10000934-1773676800-1773684000@www.stoffe-fingerhut.de
SUMMARY:Nähkurs 1 ab Februar 2026
DESCRIPTION:Informationen Nähkurs 1: Montag\n\nDauer: wöchentlich 5 x 2 Stunden\nZeitraum: 16:00-18:00 Uhr\nKursleiter: Marina Sevastianova\nKursgebühr: 95 € ohne Material
URL:https://www.stoffe-fingerhut.de/termin/naehkurs-1-ab-februar-2026/2026-03-16/
LOCATION:Fingerhut\, Großer Zimmerhof 28\, Wolfenbüttel\, Niedersachsen\, 38300\, Deutschland
CATEGORIES:Kurse,Nähkurs 1: Montag
ATTACH;FMTTYPE=image/jpeg:https://www.stoffe-fingerhut.de/medien/Maschine_Fingerhut-Wolfenbuettel_Fotolia_106019997_M_2.jpg
GEO:52.16218;10.5337
X-APPLE-STRUCTURED-LOCATION;VALUE=URI;X-ADDRESS=Fingerhut Großer Zimmerhof 28 Wolfenbüttel Niedersachsen 38300 Deutschland;X-APPLE-RADIUS=500;X-TITLE=Großer Zimmerhof 28:geo:10.5337,52.16218
END:VEVENT
BEGIN:VEVENT
DTSTART;TZID=Europe/Berlin:20260317T110000
DTEND;TZID=Europe/Berlin:20260317T130000
DTSTAMP:20260424T122900
CREATED:20251223T121952Z
LAST-MODIFIED:20260202T200602Z
UID:10000939-1773745200-1773752400@www.stoffe-fingerhut.de
SUMMARY:Nähkurs 2 ab Februar 2026
DESCRIPTION:Informationen Nähkurs 2: Dienstag\n\nDauer: wöchentlich 5 x 2 Stunden\nZeitraum: 11:00-13:00 Uhr\nKursleiter: Marina Sevastianova\nKursgebühr: 95 € ohne Material
URL:https://www.stoffe-fingerhut.de/termin/naehkurs-2-ab-februar-2026/2026-03-17/
LOCATION:Fingerhut\, Großer Zimmerhof 28\, Wolfenbüttel\, Niedersachsen\, 38300\, Deutschland
CATEGORIES:Kurse,Nähkurs 2: Dienstag
ATTACH;FMTTYPE=image/jpeg:https://www.stoffe-fingerhut.de/medien/Maschine_Fingerhut-Wolfenbuettel_Fotolia_106019997_M_2.jpg
GEO:52.16218;10.5337
X-APPLE-STRUCTURED-LOCATION;VALUE=URI;X-ADDRESS=Fingerhut Großer Zimmerhof 28 Wolfenbüttel Niedersachsen 38300 Deutschland;X-APPLE-RADIUS=500;X-TITLE=Großer Zimmerhof 28:geo:10.5337,52.16218
END:VEVENT
BEGIN:VEVENT
DTSTART;TZID=Europe/Berlin:20260319T160000
DTEND;TZID=Europe/Berlin:20260319T190000
DTSTAMP:20260424T122900
CREATED:20251223T122554Z
LAST-MODIFIED:20260202T200636Z
UID:10000945-1773936000-1773946800@www.stoffe-fingerhut.de
SUMMARY:Nähkurs 5 ab Februar 2026 (gerade Woche)
DESCRIPTION:Informationen Nähkurs 5: Donnerstag\n\nDauer: 14-täglich 3 x 3 Stunden (gerade Woche)\nZeitraum: 15:00 – 18:00 Uhr\nKursleiter: Marina Sevastianova\nKursgebühr: 85\,50 € ohne Material
URL:https://www.stoffe-fingerhut.de/termin/naehkurs-5-ab-februar-2026-gerade-woche/2026-03-19/
LOCATION:Fingerhut\, Großer Zimmerhof 28\, Wolfenbüttel\, Niedersachsen\, 38300\, Deutschland
CATEGORIES:Kurse,Nähkurs 5: Donnerstag
ATTACH;FMTTYPE=image/jpeg:https://www.stoffe-fingerhut.de/medien/Fingerhut-Wolfenbuettel_Fotolia_106018639_M.jpg
GEO:52.16218;10.5337
X-APPLE-STRUCTURED-LOCATION;VALUE=URI;X-ADDRESS=Fingerhut Großer Zimmerhof 28 Wolfenbüttel Niedersachsen 38300 Deutschland;X-APPLE-RADIUS=500;X-TITLE=Großer Zimmerhof 28:geo:10.5337,52.16218
END:VEVENT
BEGIN:VEVENT
DTSTART;TZID=Europe/Berlin:20260323T103000
DTEND;TZID=Europe/Berlin:20260323T133000
DTSTAMP:20260424T122900
CREATED:20260202T202105Z
LAST-MODIFIED:20260202T202157Z
UID:10000963-1774261800-1774272600@www.stoffe-fingerhut.de
SUMMARY:Kindernähkurs Osterferien (Woche 1: Kurs 1)
DESCRIPTION:Osterferiennähkurs \n\nThema: Pullover nähen\nPreis: 59 € / Material extra\n\nZeiten \n\nMontag\, 23. März 2026 von 10:30 bis 13:30 Uhr\nMittwoch\, 25. März 2026 von 10:30 bis 13:30 Uhr\n\nMaterial – benötigt werden: \n\nje nach Länge und Größe Webware (Baumwolle\, Viskose\, Popeline \, etc.) laut Schnittmustertabelle\,\nGarn\,\nSchnittmuster kann auf Wunsch bestellt werden\, bitte vorher anfragen!
URL:https://www.stoffe-fingerhut.de/termin/kindernaehkurs-osterferien-2026-woche-1-kurs-1/2026-03-23/
LOCATION:Fingerhut\, Großer Zimmerhof 28\, Wolfenbüttel\, Niedersachsen\, 38300\, Deutschland
CATEGORIES:Kurse,Nähkurs Kinder
ATTACH;FMTTYPE=image/jpeg:https://www.stoffe-fingerhut.de/medien/2020/09/kindernaehkursbild-quer.jpg
GEO:52.16218;10.5337
X-APPLE-STRUCTURED-LOCATION;VALUE=URI;X-ADDRESS=Fingerhut Großer Zimmerhof 28 Wolfenbüttel Niedersachsen 38300 Deutschland;X-APPLE-RADIUS=500;X-TITLE=Großer Zimmerhof 28:geo:10.5337,52.16218
END:VEVENT
BEGIN:VEVENT
DTSTART;TZID=Europe/Berlin:20260325T103000
DTEND;TZID=Europe/Berlin:20260325T133000
DTSTAMP:20260424T122900
CREATED:20260202T202105Z
LAST-MODIFIED:20260202T202157Z
UID:10000964-1774434600-1774445400@www.stoffe-fingerhut.de
SUMMARY:Kindernähkurs Osterferien (Woche 1: Kurs 1)
DESCRIPTION:Osterferiennähkurs \n\nThema: Pullover nähen\nPreis: 59 € / Material extra\n\nZeiten \n\nMontag\, 23. März 2026 von 10:30 bis 13:30 Uhr\nMittwoch\, 25. März 2026 von 10:30 bis 13:30 Uhr\n\nMaterial – benötigt werden: \n\nje nach Länge und Größe Webware (Baumwolle\, Viskose\, Popeline \, etc.) laut Schnittmustertabelle\,\nGarn\,\nSchnittmuster kann auf Wunsch bestellt werden\, bitte vorher anfragen!
URL:https://www.stoffe-fingerhut.de/termin/kindernaehkurs-osterferien-2026-woche-1-kurs-1/2026-03-25/
LOCATION:Fingerhut\, Großer Zimmerhof 28\, Wolfenbüttel\, Niedersachsen\, 38300\, Deutschland
CATEGORIES:Kurse,Nähkurs Kinder
ATTACH;FMTTYPE=image/jpeg:https://www.stoffe-fingerhut.de/medien/2020/09/kindernaehkursbild-quer.jpg
GEO:52.16218;10.5337
X-APPLE-STRUCTURED-LOCATION;VALUE=URI;X-ADDRESS=Fingerhut Großer Zimmerhof 28 Wolfenbüttel Niedersachsen 38300 Deutschland;X-APPLE-RADIUS=500;X-TITLE=Großer Zimmerhof 28:geo:10.5337,52.16218
END:VEVENT
BEGIN:VEVENT
DTSTART;TZID=Europe/Berlin:20260326T160000
DTEND;TZID=Europe/Berlin:20260326T190000
DTSTAMP:20260424T122900
CREATED:20251223T122244Z
LAST-MODIFIED:20260202T200617Z
UID:10000942-1774540800-1774551600@www.stoffe-fingerhut.de
SUMMARY:Nähkurs 5 ab Februar 2026 (ungerade Woche)
DESCRIPTION:Informationen Nähkurs 5: Donnerstag\n\nDauer: 14-täglich 3 x 3 Stunden\nZeitraum: 15:00 – 18:00 Uhr\nKursleiter: Marina Sevastianova\nKursgebühr: 85\,50 € ohne Material
URL:https://www.stoffe-fingerhut.de/termin/naehkurs-4-ab-februar-2026-ungerade-woche/2026-03-26/
LOCATION:Fingerhut\, Großer Zimmerhof 28\, Wolfenbüttel\, Niedersachsen\, 38300\, Deutschland
CATEGORIES:Kurse,Nähkurs 5: Donnerstag
ATTACH;FMTTYPE=image/jpeg:https://www.stoffe-fingerhut.de/medien/Fingerhut-Wolfenbuettel_Fotolia_106018639_M.jpg
GEO:52.16218;10.5337
X-APPLE-STRUCTURED-LOCATION;VALUE=URI;X-ADDRESS=Fingerhut Großer Zimmerhof 28 Wolfenbüttel Niedersachsen 38300 Deutschland;X-APPLE-RADIUS=500;X-TITLE=Großer Zimmerhof 28:geo:10.5337,52.16218
END:VEVENT
BEGIN:VEVENT
DTSTART;TZID=Europe/Berlin:20260330T100000
DTEND;TZID=Europe/Berlin:20260330T130000
DTSTAMP:20260424T122900
CREATED:20260202T202321Z
LAST-MODIFIED:20260202T202510Z
UID:10000965-1774864800-1774875600@www.stoffe-fingerhut.de
SUMMARY:Kindernähkurs Osterferien (Woche 2: Kurs 2)
DESCRIPTION:Osterferiennähkurs \n\nThema: Leseknochen nähen\nPreis: 29 € / Material extra\n\nZeiten \n\nMontag\, 30. März 2026 von 10:00 bis 13:00 Uhr\n\nMaterial – benötigt werden: \n\nje nach Länge und Größe Webware (Baumwolle\, Viskose\, Popeline \, etc.) laut Schnittmustertabelle\,\nGarn\,\nSchnittmuster kann auf Wunsch bestellt werden\, bitte vorher anfragen!
URL:https://www.stoffe-fingerhut.de/termin/kindernaehkurs-osterferien-2026-woche-2-kurs-2/
LOCATION:Fingerhut\, Großer Zimmerhof 28\, Wolfenbüttel\, Niedersachsen\, 38300\, Deutschland
CATEGORIES:Kurse,Nähkurs Kinder
ATTACH;FMTTYPE=image/jpeg:https://www.stoffe-fingerhut.de/medien/2020/09/kindernaehkursbild-quer.jpg
GEO:52.16218;10.5337
X-APPLE-STRUCTURED-LOCATION;VALUE=URI;X-ADDRESS=Fingerhut Großer Zimmerhof 28 Wolfenbüttel Niedersachsen 38300 Deutschland;X-APPLE-RADIUS=500;X-TITLE=Großer Zimmerhof 28:geo:10.5337,52.16218
END:VEVENT
BEGIN:VEVENT
DTSTART;TZID=Europe/Berlin:20260401T100000
DTEND;TZID=Europe/Berlin:20260401T130000
DTSTAMP:20260424T122900
CREATED:20260202T202523Z
LAST-MODIFIED:20260202T202642Z
UID:10000966-1775037600-1775048400@www.stoffe-fingerhut.de
SUMMARY:Kindernähkurs Osterferien (Woche 2: Kurs 3)
DESCRIPTION:Osterferiennähkurs \n\nThema: Leseknochen nähen\nPreis: 29 € / Material extra\n\nZeiten \n\nMontag\, 01. April 2026 von 10:00 bis 13:00 Uhr\n\nMaterial – benötigt werden: \n\nje nach Länge und Größe Webware (Baumwolle\, Viskose\, Popeline \, etc.) laut Schnittmustertabelle\,\nGarn\,\nSchnittmuster kann auf Wunsch bestellt werden\, bitte vorher anfragen!
URL:https://www.stoffe-fingerhut.de/termin/kindernaehkurs-osterferien-2026-woche-2-kurs-3/
LOCATION:Fingerhut\, Großer Zimmerhof 28\, Wolfenbüttel\, Niedersachsen\, 38300\, Deutschland
CATEGORIES:Kurse,Nähkurs Kinder
ATTACH;FMTTYPE=image/jpeg:https://www.stoffe-fingerhut.de/medien/2020/09/kindernaehkursbild-quer.jpg
GEO:52.16218;10.5337
X-APPLE-STRUCTURED-LOCATION;VALUE=URI;X-ADDRESS=Fingerhut Großer Zimmerhof 28 Wolfenbüttel Niedersachsen 38300 Deutschland;X-APPLE-RADIUS=500;X-TITLE=Großer Zimmerhof 28:geo:10.5337,52.16218
END:VEVENT
END:VCALENDAR